BEGIN:VCALENDAR
VERSION:2.0
PRODID:-//wp-events-plugin.com//7.0.4//EN
TZID:America/New_York
X-WR-TIMEZONE:America/New_York
BEGIN:VEVENT
UID:30@wibsturbridge.org
DTSTART;TZID=America/New_York:20221214T173000
DTEND;TZID=America/New_York:20221214T193000
DTSTAMP:20221128T174303Z
URL:https://wibsturbridge.org/event/annual-holiday-paty/
SUMMARY:Annual Holiday Party
DESCRIPTION:
CATEGORIES:After Hours,Dinner,In-Person Networking,Networking
LOCATION:Publick House\, 277 Main Street\, Sturbridge\, MA\, 01566\, United
  States
GEO:42.106753;-72.079432
X-APPLE-STRUCTURED-LOCATION;VALUE=URI;X-ADDRESS=277 Main Street\, Sturbridg
 e\, MA\, 01566\, United States;X-APPLE-RADIUS=100;X-TITLE=Publick House:ge
 o:42.106753,-72.079432
END:VEVENT
BEGIN:VTIMEZONE
TZID:America/New_York
X-LIC-LOCATION:America/New_York
BEGIN:STANDARD
DTSTART:20221106T010000
TZOFFSETFROM:-0400
TZOFFSETTO:-0500
TZNAME:EST
END:STANDARD
END:VTIMEZONE
END:VCALENDAR