BEGIN:VCALENDAR
VERSION:2.0
PRODID:-//wp-events-plugin.com//7.0.4//EN
TZID:America/New_York
X-WR-TIMEZONE:America/New_York
BEGIN:VEVENT
UID:93@wibsturbridge.org
DTSTART;TZID=America/New_York:20260408T120000
DTEND;TZID=America/New_York:20260408T140000
DTSTAMP:20260331T122138Z
URL:https://wibsturbridge.org/event/april-luncheon-3/
SUMMARY:April Luncheon
DESCRIPTION:Venue -Pine Ridge Country Club\n\nGuest Speaker - Maria Murray 
 - Marketing 101: Your Online Foundation Matters\n\n\n\n\n\n&nbsp\;\n\n Don
 ’t forget about our Raffle! Our members take turns donating items that w
 e raffle off during the event. Raffle Tickets are 3 for $5\, all proceeds 
 go toward our various WIB Gives Back Programs. \n\nLooking forward to seei
 ng everyone at the luncheon!\n\n
ATTACH;FMTTYPE=image/jpeg:https://wibsturbridge.org/wp-content/uploads/202
 6/02/april-2026-wib-meeting.jpg
CATEGORIES:In-Person Networking,Luncheon
LOCATION:https://www.google.com/maps/place/Pine+Ridge+Country+Club/@42.1892
 727,-71.9062627,17z/data=!3m1!4b1!4m6!3m5!1s0x89e4032ad4b2f9ef:0x47b5b0ac7
 4feee8d!8m2!3d42.1892727!4d-71.9036878!16s%2Fg%2F12hxw35tw?entry=ttu&g_ep=
 EgoyMDI2MDIyMi4wIKXMDSoASAFQAw%3D%3D
END:VEVENT
BEGIN:VTIMEZONE
TZID:America/New_York
X-LIC-LOCATION:America/New_York
BEGIN:DAYLIGHT
DTSTART:20260308T030000
TZOFFSETFROM:-0500
TZOFFSETTO:-0400
TZNAME:EDT
END:DAYLIGHT
END:VTIMEZONE
END:VCALENDAR