BEGIN:VCALENDAR
VERSION:2.0
PRODID:-//wp-events-plugin.com//7.0.4//EN
TZID:America/New_York
X-WR-TIMEZONE:America/New_York
BEGIN:VEVENT
UID:36@wibsturbridge.org
DTSTART;TZID=America/New_York:20230412T120000
DTEND;TZID=America/New_York:20230412T140000
DTSTAMP:20230331T165541Z
URL:https://wibsturbridge.org/event/april-luncheon-blossoming-through-care
 er-transitions/
SUMMARY:April Luncheon - Blossoming Through Career Transitions
DESCRIPTION:Join us on Wednesday\, April 12th at the Cohasse Country Club i
 n Southbridge from 12 to 2:00pm for our April luncheon. Woman in Business 
 member Kaylyn Blair owner of A-OK Resumes &amp\; Career Coaching will lead
  a discussion about The Seeds of Change: Blossoming through Career Transit
 ions. \n\n\n\nFeeling burnt out? Ready for the next chapter of your care
 er? Whether you are an entry level employee\, a seasoned professional\, or
  considering retirement\, career changes can be terrifying! Together we wi
 ll unpack why career transitions are so scary\, debunk some limiting belie
 fs\, and empower ourselves to redefine success and work on our own terms.
  \n\n★ Why does changing careers feel so daunting as women?\n★ How c
 an we fight patriarchy one career move at a time?\n★ Have our Profession
 al Values Shifted throughout different Chapters of Life?\n★ How to tap i
 nto our inner power as women to Manifest the Life we Deserve\n★ What’s
  Next? Do your research\, use your resources\, and take aligned action\n\n
  Don’t forget about our Raffle! Our members take turns donating items th
 at we raffle off during the event. Raffle Tickets are 3 for $5\, all proce
 eds go toward our various WIB Gives Back Programs. \n\nLooking forward to 
 seeing everyone at the luncheon!\n\nNOTE: We extended our luncheon meeting
  to 2 full hours to allow for 30 minutes of optional networking from 1:30-
 2:00. \n\n
ATTACH;FMTTYPE=image/jpeg:https://wibsturbridge.org/wp-content/uploads/202
 3/02/April-2023.png
CATEGORIES:In-Person Networking,Luncheon
LOCATION:Cohasse Country Club\, 393 Eastford Road \, Southbridge\, 01550\, 
 United States
GEO:42.060273;-72.044898
X-APPLE-STRUCTURED-LOCATION;VALUE=URI;X-ADDRESS=393 Eastford Road \, Southb
 ridge\, 01550\, United States;X-APPLE-RADIUS=100;X-TITLE=Cohasse Country C
 lub:geo:42.060273,-72.044898
END:VEVENT
BEGIN:VTIMEZONE
TZID:America/New_York
X-LIC-LOCATION:America/New_York
BEGIN:DAYLIGHT
DTSTART:20230312T030000
TZOFFSETFROM:-0500
TZOFFSETTO:-0400
TZNAME:EDT
END:DAYLIGHT
END:VTIMEZONE
END:VCALENDAR