BEGIN:VCALENDAR
VERSION:2.0
PRODID:-//wp-events-plugin.com//7.0.4//EN
TZID:America/New_York
X-WR-TIMEZONE:America/New_York
BEGIN:VEVENT
UID:50@wibsturbridge.org
DTSTART;TZID=America/New_York:20240410T120000
DTEND;TZID=America/New_York:20240410T140000
DTSTAMP:20240126T154929Z
URL:https://wibsturbridge.org/event/april-luncheon/
SUMMARY:April Luncheon
DESCRIPTION:Blossom with Us this Spring!  Woman in Business Inc. invites 
 you to our April Lunch &amp\; Networking Event. Embrace the season of grow
 th\, connect with inspiring women\, and enjoy a vibrant networking experie
 nce.\nMembers &amp\; non-members are Welcome! \nRegister Today! 👇\n\n\
 n\n Don’t forget about our Raffle! Our members take turns donating items
  that we raffle off during the event. Raffle Tickets are 3 for $5\, all pr
 oceeds go toward our various WIB Gives Back Programs. \n\nLooking forward 
 to seeing everyone at the luncheon!\n\n
ATTACH;FMTTYPE=image/jpeg:https://wibsturbridge.org/wp-content/uploads/202
 3/11/April-Lunch.png
CATEGORIES:In-Person Networking,Luncheon
LOCATION:https://maps.app.goo.gl/D2vm2RrJ3eBGDujcA
END:VEVENT
BEGIN:VTIMEZONE
TZID:America/New_York
X-LIC-LOCATION:America/New_York
BEGIN:DAYLIGHT
DTSTART:20240310T030000
TZOFFSETFROM:-0500
TZOFFSETTO:-0400
TZNAME:EDT
END:DAYLIGHT
END:VTIMEZONE
END:VCALENDAR