BEGIN:VCALENDAR
VERSION:2.0
PRODID:-//wp-events-plugin.com//7.0.4//EN
TZID:America/New_York
X-WR-TIMEZONE:America/New_York
BEGIN:VEVENT
UID:40@wibsturbridge.org
DTSTART;TZID=America/New_York:20230809T173000
DTEND;TZID=America/New_York:20230809T193000
DTSTAMP:20230613T182301Z
URL:https://wibsturbridge.org/event/august-2023/
SUMMARY:August Networking
DESCRIPTION:𝗜𝘁'𝘀 𝗧𝗶𝗺𝗲 𝗳𝗼𝗿 𝗡𝗲𝘁𝘄
 𝗼𝗿𝗸𝗶𝗻𝗴!\n\n\n𝗚𝗿𝗮𝗯 𝘆𝗼𝘂𝗿 𝗯𝘂
 𝘀𝗶𝗻𝗲𝘀𝘀 𝗰𝗮𝗿𝗱𝘀 𝗮𝗻𝗱 𝗷𝗼𝗶
 𝗻 𝘂𝘀 𝗳𝗼𝗿 𝗮𝗽𝗽𝗲𝘁𝗶𝘇𝗲𝗿𝘀 &amp\;
  𝗻𝗲𝘁𝘄𝗼𝗿𝗸𝗶𝗻𝗴 𝘂𝗻𝗱𝗲𝗿 𝘁𝗵
 𝗲 𝘁𝗲𝗻𝘁!\n\n Don’t forget about our Raffle! Our members ta
 ke turns donating items that we raffle off during the event. Raffle Ticket
 s are 3 for $5\, all proceeds go toward our WIB Gives Back Programs. \n\n
 𝗪𝗲 𝗮𝗿𝗲 𝗹𝗼𝗼𝗸𝗶𝗻𝗴 𝗳𝗼𝗿𝘄𝗮
 𝗿𝗱 𝘁𝗼 𝘀𝗲𝗲𝗶𝗻𝗴 𝘆𝗼𝘂 𝘁𝗵𝗲𝗿
 𝗲!\n\n
ATTACH;FMTTYPE=image/jpeg:https://wibsturbridge.org/wp-content/uploads/202
 3/06/Aug-Website.png
CATEGORIES:Appetizers,In-Person Networking
LOCATION:Oakholm Brewery\, 80 Lake Road\, Brookfield\, MA\, United States
GEO:42.193688;-72.081559
X-APPLE-STRUCTURED-LOCATION;VALUE=URI;X-ADDRESS=80 Lake Road\, Brookfield\,
  MA\, United States;X-APPLE-RADIUS=100;X-TITLE=Oakholm Brewery:geo:42.1936
 88,-72.081559
END:VEVENT
BEGIN:VTIMEZONE
TZID:America/New_York
X-LIC-LOCATION:America/New_York
BEGIN:DAYLIGHT
DTSTART:20230312T030000
TZOFFSETFROM:-0500
TZOFFSETTO:-0400
TZNAME:EDT
END:DAYLIGHT
END:VTIMEZONE
END:VCALENDAR