BEGIN:VCALENDAR
VERSION:2.0
PRODID:-//wp-events-plugin.com//7.0.4//EN
TZID:America/New_York
X-WR-TIMEZONE:America/New_York
BEGIN:VEVENT
UID:79@wibsturbridge.org
DTSTART;TZID=America/New_York:20250813T173000
DTEND;TZID=America/New_York:20250813T193000
DTSTAMP:20250524T112554Z
URL:https://wibsturbridge.org/event/august-summer-networking-2/
SUMMARY:August - Summer Networking
DESCRIPTION:Slice into Summer Networking Fun! 🍉☀️ Join us for our Su
 mmer Networking Event at TBD\n\nEnjoy juicy connections\, refreshing conve
 rsations\, and appetizers. Mix\, mingle\, and savor the summer vibes with 
 fellow professionals. Don’t miss out – RSVP today! Date: August 13\, T
 ime: 5:30-7:30 pm at Saw Dust Coffee House🌺 #SummerNetworking #WomanInB
 usiness\n\n\n\n Don’t forget about our Raffle! Our members take turns do
 nating items that we raffle off during the event. Raffle Tickets are 3 for
  $5\, all proceeds go toward our WIB Gives Back Programs. \n\n𝗪𝗲 
 𝗮𝗿𝗲 𝗹𝗼𝗼𝗸𝗶𝗻𝗴 𝗳𝗼𝗿𝘄𝗮𝗿𝗱 
 𝘁𝗼 𝘀𝗲𝗲𝗶𝗻𝗴 𝘆𝗼𝘂 𝘁𝗵𝗲𝗿𝗲!\n\n
ATTACH;FMTTYPE=image/jpeg:https://wibsturbridge.org/wp-content/uploads/202
 5/03/Aug-2025.png
CATEGORIES:Appetizers,In-Person Networking
LOCATION:https://www.google.com/maps/dir//371+Main+St,+Sturbridge,+MA+01566
 /@42.1102842,-72.1756868,12z/data=!4m8!4m7!1m0!1m5!1m1!1s0x89e6a36a44522e9
 5:0x92e1883acee22e7f!2m2!1d-72.093286!2d42.1103137?entry=ttu&g_ep=EgoyMDI1
 MDUyMS4wIKXMDSoASAFQAw%3D%3D
END:VEVENT
BEGIN:VTIMEZONE
TZID:America/New_York
X-LIC-LOCATION:America/New_York
BEGIN:DAYLIGHT
DTSTART:20250309T030000
TZOFFSETFROM:-0500
TZOFFSETTO:-0400
TZNAME:EDT
END:DAYLIGHT
END:VTIMEZONE
END:VCALENDAR