BEGIN:VCALENDAR
VERSION:2.0
PRODID:-//wp-events-plugin.com//7.0.4//EN
TZID:America/New_York
X-WR-TIMEZONE:America/New_York
BEGIN:VEVENT
UID:54@wibsturbridge.org
DTSTART;TZID=America/New_York:20240814T173000
DTEND;TZID=America/New_York:20240814T193000
DTSTAMP:20240701T154830Z
URL:https://wibsturbridge.org/event/august-summer-networking/
SUMMARY:August - Summer Networking
DESCRIPTION:Slice into Summer Networking Fun! 🍉☀️ Join us for our Su
 mmer Networking Event at the Cohasse Country Club!\n\nEnjoy juicy connecti
 ons\, refreshing conversations\, and appetizers on the beautiful deck (wea
 ther permitting). Mix\, mingle\, and savor the summer vibes with fellow pr
 ofessionals. Don’t miss out – RSVP today! Date: August 14\, Time: 5:30
 -7:30 pm.🍹🌺 #SummerNetworking #WomanInBusiness\n\n\n\n Don’t forge
 t about our Raffle! Our members take turns donating items that we raffle o
 ff during the event. Raffle Tickets are 3 for $5\, all proceeds go toward 
 our WIB Gives Back Programs. \n\n𝗪𝗲 𝗮𝗿𝗲 𝗹𝗼𝗼𝗸
 𝗶𝗻𝗴 𝗳𝗼𝗿𝘄𝗮𝗿𝗱 𝘁𝗼 𝘀𝗲𝗲𝗶𝗻
 𝗴 𝘆𝗼𝘂 𝘁𝗵𝗲𝗿𝗲!\n\n
ATTACH;FMTTYPE=image/jpeg:https://wibsturbridge.org/wp-content/uploads/202
 3/11/2024-August-Event.png
CATEGORIES:Appetizers,In-Person Networking
LOCATION:Cohasse Country Club\, 393 Eastford Road \, Southbridge\, 01550\, 
 United States
GEO:42.060273;-72.044898
X-APPLE-STRUCTURED-LOCATION;VALUE=URI;X-ADDRESS=393 Eastford Road \, Southb
 ridge\, 01550\, United States;X-APPLE-RADIUS=100;X-TITLE=Cohasse Country C
 lub:geo:42.060273,-72.044898
END:VEVENT
BEGIN:VTIMEZONE
TZID:America/New_York
X-LIC-LOCATION:America/New_York
BEGIN:DAYLIGHT
DTSTART:20240310T030000
TZOFFSETFROM:-0500
TZOFFSETTO:-0400
TZNAME:EDT
END:DAYLIGHT
END:VTIMEZONE
END:VCALENDAR