BEGIN:VCALENDAR
VERSION:2.0
PRODID:-//wp-events-plugin.com//7.0.4//EN
TZID:America/New_York
X-WR-TIMEZONE:America/New_York
BEGIN:VEVENT
UID:94@wibsturbridge.org
DTSTART;TZID=America/New_York:20260325T093000
DTEND;TZID=America/New_York:20260325T103000
DTSTAMP:20260325T130126Z
URL:https://wibsturbridge.org/event/coffee-chat-members-only-11/
SUMMARY:Coffee Chat - Members Only
DESCRIPTION:UNFORTUNATELY WE NEED TO RESCHEDULE DUE TO A LOCATION EMERGENCY
 !\n\n\nJoin us for the Woman in Business Inc. Members-Only Coffee Chat  
 ☕️ Don't miss this exclusive opportunity to forge meaningful connecti
 ons within our dynamic community.  Let's sip\, chat\, and inspire each ot
 her! #MembersCoffeeChat #WomenInBusiness\n\nPlease register for the event 
 so we know you are planning on joining us. \n\nWe look forward to chattin
 g with you over coffee!\n\n&nbsp\;\n\n\n\n
ATTACH;FMTTYPE=image/jpeg:https://wibsturbridge.org/wp-content/uploads/202
 6/02/march-26-coffee.png
CATEGORIES:Coffee Chat,In-Person Networking,Networking
LOCATION:https://www.google.com/maps/dir/42.0495962,-72.0283445/mccurdy+inv
 estments/@42.0738581,-72.0958166,13z/data=!3m1!4b1!4m9!4m8!1m1!4e1!1m5!1m1
 !1s0x89e6a31a42bd328f:0x83aa3c0c5b98b2f!2m2!1d-72.0743483!2d42.1004191?ent
 ry=ttu&g_ep=EgoyMDI0MDkzMC4wIKXMDSoASAFQAw%3D%3D
END:VEVENT
BEGIN:VTIMEZONE
TZID:America/New_York
X-LIC-LOCATION:America/New_York
BEGIN:DAYLIGHT
DTSTART:20260308T030000
TZOFFSETFROM:-0500
TZOFFSETTO:-0400
TZNAME:EDT
END:DAYLIGHT
END:VTIMEZONE
END:VCALENDAR