BEGIN:VCALENDAR
VERSION:2.0
PRODID:-//wp-events-plugin.com//7.0.4//EN
TZID:America/New_York
X-WR-TIMEZONE:America/New_York
BEGIN:VEVENT
UID:77@wibsturbridge.org
DTSTART;TZID=America/New_York:20250122T093000
DTEND;TZID=America/New_York:20250122T103000
DTSTAMP:20241229T232140Z
URL:https://wibsturbridge.org/event/coffee-chat-members-only-5/
SUMMARY:Coffee Chat - Members Only
DESCRIPTION:Join us for the Woman in Business Inc. Members-Only Coffee Chat
   ☕️ Don't miss this exclusive opportunity to forge meaningful conne
 ctions within our dynamic community.  Let's sip\, chat\, and inspire each
  other! #MembersCoffeeChat #WomenInBusiness\n\nPlease register for the eve
 nt so we know you are planning on joining us.  \n\nLOCATION: Historic Yog
 a\, 48 Main Street in Sturbridge\n\n\n\nWe look forward to chatting with y
 ou over coffee!\n\n
ATTACH;FMTTYPE=image/jpeg:https://wibsturbridge.org/wp-content/uploads/202
 4/12/january-coffee-2025-FB-Events-1806-×-935-px.jpg
CATEGORIES:Coffee Chat,In-Person Networking,Networking
LOCATION:https://www.google.com/maps/dir/42.0495962,-72.0283445/Historic+Yo
 ga,+Main+Street,+Sturbridge,+MA/@42.0674187,-72.0661013,14z/data=!3m1!4b1!
 4m9!4m8!1m1!4e1!1m5!1m1!1s0x89e41d49aa618435:0xf9a6e2b65c8362a2!2m2!1d-72.
 0604837!2d42.0875219?entry=ttu&g_ep=EgoyMDI0MTIxMS4wIKXMDSoASAFQAw%3D%3D
END:VEVENT
BEGIN:VTIMEZONE
TZID:America/New_York
X-LIC-LOCATION:America/New_York
BEGIN:STANDARD
DTSTART:20241103T010000
TZOFFSETFROM:-0400
TZOFFSETTO:-0500
TZNAME:EST
END:STANDARD
END:VTIMEZONE
END:VCALENDAR