BEGIN:VCALENDAR
VERSION:2.0
PRODID:-//wp-events-plugin.com//7.0.4//EN
TZID:America/New_York
X-WR-TIMEZONE:America/New_York
BEGIN:VEVENT
UID:78@wibsturbridge.org
DTSTART;TZID=America/New_York:20250326T093000
DTEND;TZID=America/New_York:20250326T103000
DTSTAMP:20250323T222729Z
URL:https://wibsturbridge.org/event/coffee-chat-members-only-6/
SUMMARY:Coffee Chat - Members Only
DESCRIPTION:DUE TO SPAMMING...WIB HAS SHUT DOWN THE FORM TO SIGN UP. PLEASE
  SEND US AN EMAIL TO SIGN UP OR SHOW UP!\n\nJoin us for the Woman in Busin
 ess Inc. Members-Only Coffee Chat  ☕️ Don't miss this exclusive oppo
 rtunity to forge meaningful connections within our dynamic community.  Le
 t's sip\, chat\, and inspire each other! #MembersCoffeeChat #WomenInBusine
 ss\n\nPlease register for the event so we know you are planning on joining
  us.  \n\nLOCATION: Sturbridge Coffee House\n\n\n\nWe look forward to cha
 tting with you over coffee!\n\n
ATTACH;FMTTYPE=image/jpeg:https://wibsturbridge.org/wp-content/uploads/202
 5/02/WIB-March-Coffee-chatjpg.jpg
CATEGORIES:Coffee Chat,In-Person Networking,Networking
LOCATION:https://www.google.com/maps/place/Sturbridge+Coffee+House/@42.1112
 412,-72.0990767,17z/data=!3m1!4b1!4m6!3m5!1s0x89e6a305a751141f:0x8a89f1adc
 98d527f!8m2!3d42.1112412!4d-72.0965018!16s%2Fg%2F1tl_mr7y?entry=ttu&g_ep=E
 goyMDI1MDIyNi4wIKXMDSoASAFQAw%3D%3D
END:VEVENT
BEGIN:VTIMEZONE
TZID:America/New_York
X-LIC-LOCATION:America/New_York
BEGIN:DAYLIGHT
DTSTART:20250309T030000
TZOFFSETFROM:-0500
TZOFFSETTO:-0400
TZNAME:EDT
END:DAYLIGHT
END:VTIMEZONE
END:VCALENDAR