BEGIN:VCALENDAR
VERSION:2.0
PRODID:-//wp-events-plugin.com//7.0.4//EN
TZID:America/New_York
X-WR-TIMEZONE:America/New_York
BEGIN:VEVENT
UID:80@wibsturbridge.org
DTSTART;TZID=America/New_York:20250521T093000
DTEND;TZID=America/New_York:20250521T103000
DTSTAMP:20250512T162236Z
URL:https://wibsturbridge.org/event/coffee-chat-members-only-7/
SUMMARY:Coffee Chat - Members Only
DESCRIPTION:DUE TO SPAMMING...WIB HAS SHUT DOWN THE FORM TO SIGN UP. PLEASE
  SEND US AN EMAIL TO SIGN UP OR SHOW UP!\n\nJoin us for the Woman in Busin
 ess Inc. Members-Only Coffee Chat  ☕️ Don't miss this exclusive oppo
 rtunity to forge meaningful connections within our dynamic community.  Le
 t's sip\, chat\, and inspire each other! #MembersCoffeeChat #WomenInBusine
 ss\n\nPlease register for the event so we know you are planning on joining
  us.  \n\nLOCATION: Creative Haven\n371 Main St\nSturbridge MA\n\n\nWe lo
 ok forward to chatting with you over coffee!\n\n
ATTACH;FMTTYPE=image/jpeg:https://wibsturbridge.org/wp-content/uploads/202
 5/05/may-25-coffee.png
CATEGORIES:Coffee Chat,In-Person Networking,Networking
LOCATION:https://www.google.com/maps/dir/42.0478976,-72.155136/371+Main+St,
 +Sturbridge,+MA+01566/@42.0711204,-72.1989862,12z/data=!3m1!4b1!4m9!4m8!1m
 1!4e1!1m5!1m1!1s0x89e6a3a9c3694ced:0xf269eb9cadd3d51f!2m2!1d-72.0934146!2d
 42.1102846?entry=ttu&g_ep=EgoyMDI1MDUwNy4wIKXMDSoASAFQAw%3D%3D
END:VEVENT
BEGIN:VTIMEZONE
TZID:America/New_York
X-LIC-LOCATION:America/New_York
BEGIN:DAYLIGHT
DTSTART:20250309T030000
TZOFFSETFROM:-0500
TZOFFSETTO:-0400
TZNAME:EDT
END:DAYLIGHT
END:VTIMEZONE
END:VCALENDAR