BEGIN:VCALENDAR
VERSION:2.0
PRODID:-//wp-events-plugin.com//7.0.4//EN
TZID:America/New_York
X-WR-TIMEZONE:America/New_York
BEGIN:VEVENT
UID:82@wibsturbridge.org
DTSTART;TZID=America/New_York:20250709T093000
DTEND;TZID=America/New_York:20250709T103000
DTSTAMP:20250619T122711Z
URL:https://wibsturbridge.org/event/coffee-chat-members-only-8/
SUMMARY:Coffee Chat - Members Only
DESCRIPTION:Join us for the Woman in Business Inc. Members-Only Coffee Chat
   ☕️ Don't miss this exclusive opportunity to forge meaningful conne
 ctions within our dynamic community.  Let's sip\, chat\, and inspire each
  other! #MembersCoffeeChat #WomenInBusiness\n\nPlease register for the eve
 nt so we know you are planning on joining us.  \n\nLOCATION: Edward Jones
  (The Overlook Campus - Entrance 1)\n88 Masonic Home Rd\nCharlton MA\n\n\n
 We look forward to chatting with you over coffee!\n\n
ATTACH;FMTTYPE=image/jpeg:https://wibsturbridge.org/wp-content/uploads/202
 5/06/july-25-coffee-1.jpg
CATEGORIES:Coffee Chat,In-Person Networking,Networking
LOCATION:https://www.google.com/maps/dir//88+Masonic+Home+Rd,+Charlton,+MA+
 01507/@42.1383334,-72.0601451,12z/data=!3m1!4b1!4m8!4m7!1m0!1m5!1m1!1s0x89
 e6a73f83030f37:0xa75d38fbcc3bda0d!2m2!1d-71.9777443!2d42.1383629?entry=ttu
 &g_ep=EgoyMDI1MDYxNi4wIKXMDSoASAFQAw%3D%3D
END:VEVENT
BEGIN:VTIMEZONE
TZID:America/New_York
X-LIC-LOCATION:America/New_York
BEGIN:DAYLIGHT
DTSTART:20250309T030000
TZOFFSETFROM:-0500
TZOFFSETTO:-0400
TZNAME:EDT
END:DAYLIGHT
END:VTIMEZONE
END:VCALENDAR