BEGIN:VCALENDAR
VERSION:2.0
PRODID:-//wp-events-plugin.com//7.0.4//EN
TZID:America/New_York
X-WR-TIMEZONE:America/New_York
BEGIN:VEVENT
UID:88@wibsturbridge.org
DTSTART;TZID=America/New_York:20251022T093000
DTEND;TZID=America/New_York:20251022T103000
DTSTAMP:20251020T001430Z
URL:https://wibsturbridge.org/event/coffee-chat-members-only-9/
SUMMARY:Coffee Chat - Members Only
DESCRIPTION:Join us for the Woman in Business Inc. Members-Only Coffee Chat
   ☕️ Don't miss this exclusive opportunity to forge meaningful conne
 ctions within our dynamic community.  Let's sip\, chat\, and inspire each
  other! #MembersCoffeeChat #WomenInBusiness\n\nPlease register for the eve
 nt so we know you are planning on joining us.  \n\nLOCATION: Creative Hav
 en\n371 Main Street Sturbridge (Next to Saw Dust CoffeeHouse)\nCoffee (fro
 m Saw Dust) and Tea\n\nSponsored by: Stephanie Dozois - Creative Haven &am
 p\; Karen Ceppatelli - Assurance Tax relief\n\n\n\nWe look forward to chat
 ting with you over coffee!\n\n
ATTACH;FMTTYPE=image/jpeg:https://wibsturbridge.org/wp-content/uploads/202
 5/09/oct-25-coffee-chat.jpg
CATEGORIES:Coffee Chat,In-Person Networking,Networking
LOCATION:https://www.google.com/maps/place/371+Main+St,+Sturbridge,+MA+0156
 6/@42.1102886,-72.0959949,16z/data=!3m1!4b1!4m6!3m5!1s0x89e6a3a9c3694ced:0
 xf269eb9cadd3d51f!8m2!3d42.1102846!4d-72.0934146!16s%2Fg%2F11bw3wlcf_?entr
 y=ttu&g_ep=EgoyMDI1MDkyOC4wIKXMDSoASAFQAw%3D%3D
END:VEVENT
BEGIN:VTIMEZONE
TZID:America/New_York
X-LIC-LOCATION:America/New_York
BEGIN:DAYLIGHT
DTSTART:20250309T030000
TZOFFSETFROM:-0500
TZOFFSETTO:-0400
TZNAME:EDT
END:DAYLIGHT
END:VTIMEZONE
END:VCALENDAR