BEGIN:VCALENDAR
VERSION:2.0
PRODID:-//wp-events-plugin.com//7.0.4//EN
TZID:America/New_York
X-WR-TIMEZONE:America/New_York
BEGIN:VEVENT
UID:44@wibsturbridge.org
DTSTART;TZID=America/New_York:20231213T173000
DTEND;TZID=America/New_York:20231213T193000
DTSTAMP:20231121T151404Z
URL:https://wibsturbridge.org/event/december-holiday-party/
SUMMARY:December Holiday Party
DESCRIPTION:𝗢𝘂𝗿 𝗮𝗻𝗻𝘂𝗮𝗹 𝗵𝗼𝗹𝗶𝗱𝗮
 𝘆 𝗽𝗮𝗿𝘁𝘆 𝗶𝘀 𝗮𝗹𝘄𝗮𝘆𝘀 𝗮 𝗴𝗿
 𝗲𝗮𝘁 𝘁𝗶𝗺𝗲!  Don't forget about our themed basket swap
 \, everyone is welcome to participate. Your themed baskets should be value
 d at $35\, and does not have to be holiday specific.\n\n\n\nGET READY to a
 dd an extra dose of FESTIVE CHEER to our Holiday Celebration! We're excite
 d to announce a fun &amp\; creative WIB tradition\, our annual holiday The
 med Basket Swap!\n\nHere's the Scoop: Each member is invited to put togeth
 er a delightful basket with a total value of $35. The theme is entirely up
  to you - it can be holiday-inspired or something completely unique and un
 related to the season. Let your creativity shine! From cozy winter wonders
  to personalized self-care packages\, the possibilities are endless. 🎄\
 n\nTo Participate: Simply select a theme\, fill your basket with thoughtfu
 l goodies\, and wrap it up in clear or colored wrapping. 🎁✨The excite
 ment doesn't end there! During the party\, we'll exchange these beautifull
 y crafted baskets\, spreading the joy of giving and receiving.\n\nThis is 
 a fantastic opportunity to showcase your creativity\, connect with fellow 
 members\, and add a touch of personal flair to the holiday festivities. Le
 t your imagination run wild\, and let's make this Themed Basket Swap a hig
 hlight of our holiday celebration! 🧺✨\n\n🌟We can't wait to see the
  incredible baskets you come up with!\n\n𝗪𝗲 𝗮𝗿𝗲 𝗹𝗼
 𝗼𝗸𝗶𝗻𝗴 𝗳𝗼𝗿𝘄𝗮𝗿𝗱 𝘁𝗼 𝗰𝗲𝗹
 𝗲𝗯𝗿𝗮𝘁𝗶𝗻𝗴 𝘁𝗵𝗲 𝗵𝗼𝗹𝗶𝗱𝗮𝘆
  𝘀𝗲𝗮𝘀𝗼𝗻 𝘄𝗶𝘁𝗵 𝘆𝗼𝘂!\n\n
ATTACH;FMTTYPE=image/jpeg:https://wibsturbridge.org/wp-content/uploads/202
 3/08/New-Event-Bra-Drive-1.png
CATEGORIES:Dinner,In-Person Networking,Networking
LOCATION:Cohasse Country Club\, 393 Eastford Road \, Southbridge\, 01550\, 
 United States
GEO:42.060273;-72.044898
X-APPLE-STRUCTURED-LOCATION;VALUE=URI;X-ADDRESS=393 Eastford Road \, Southb
 ridge\, 01550\, United States;X-APPLE-RADIUS=100;X-TITLE=Cohasse Country C
 lub:geo:42.060273,-72.044898
END:VEVENT
BEGIN:VTIMEZONE
TZID:America/New_York
X-LIC-LOCATION:America/New_York
BEGIN:STANDARD
DTSTART:20231105T010000
TZOFFSETFROM:-0400
TZOFFSETTO:-0500
TZNAME:EST
END:STANDARD
END:VTIMEZONE
END:VCALENDAR