BEGIN:VCALENDAR
VERSION:2.0
PRODID:-//wp-events-plugin.com//7.0.4//EN
TZID:America/New_York
X-WR-TIMEZONE:America/New_York
BEGIN:VEVENT
UID:32@wibsturbridge.org
DTSTART;TZID=America/New_York:20230208T120000
DTEND;TZID=America/New_York:20230208T133000
DTSTAMP:20230228T201019Z
URL:https://wibsturbridge.org/event/february-five-money-questions-for-wome
 n/
SUMMARY:February Luncheon - Five Money Questions For Women
DESCRIPTION:\n\nPlease join us 𝗪𝗲𝗱𝗻𝗲𝘀𝗱𝗮𝘆\, 𝗙
 𝗲𝗯𝗿𝘂𝗮𝗿𝘆 𝟴𝘁𝗵 𝗮𝘁 𝘁𝗵𝗲 𝗢𝘃
 𝗲𝗿𝗹𝗼𝗼𝗸 𝗶𝗻 𝗖𝗵𝗮𝗿𝗹𝘁𝗼𝗻 𝗳
 𝗿𝗼𝗺 𝟭𝟮 𝘁𝗼 𝟭:𝟯𝟬 𝗽𝗺 for luncheon where w
 e will hear from Woman In Business member Cara Holland of Edward Jones Fin
 ancial.\n\n𝗧𝗵𝗶𝗻𝗸 𝗮𝗯𝗼𝘂𝘁 𝘁𝗵𝗲𝘀𝗲 
 𝘁𝗼𝗽𝗶𝗰𝘀: 𝗵𝗲𝗮𝗹𝘁𝗵\, 𝗳𝗮𝗺𝗶𝗹
 𝘆\, 𝗽𝘂𝗿𝗽𝗼𝘀𝗲\, 𝗮𝗻𝗱 𝗳𝗶𝗻𝗮𝗻
 𝗰𝗲𝘀. How do these factors relate to your future?  I will show yo
 u what action you can take today that can impact your quality of life in r
 etirement.\n\nFeel empowered to think through your own unique circumstance
 s\, goals\, and challenges to take control and create a plan for your life
 .\n\n Don’t forget about our Raffle! Our members take turns donating ite
 ms that we raffle off during the event. Raffle Tickets are 3 for $5\, all 
 proceeds go toward our WIB Annual Scholarship Program.\n\n
ATTACH;FMTTYPE=image/jpeg:https://wibsturbridge.org/wp-content/uploads/202
 3/01/WIB-Networking-Jan-2023-1920-×-1080-px-1.png
CATEGORIES:In-Person Networking,Luncheon
LOCATION:The Overlook\, Charlton\, MA\, 88 Masonic Home Road\, Charlton\, M
 A\, 01507\, United States
GEO:42.138816;-71.97453
X-APPLE-STRUCTURED-LOCATION;VALUE=URI;X-ADDRESS=88 Masonic Home Road\, Char
 lton\, MA\, 01507\, United States;X-APPLE-RADIUS=100;X-TITLE=The Overlook\
 , Charlton\, MA:geo:42.138816,-71.97453
END:VEVENT
BEGIN:VTIMEZONE
TZID:America/New_York
X-LIC-LOCATION:America/New_York
BEGIN:STANDARD
DTSTART:20221106T010000
TZOFFSETFROM:-0400
TZOFFSETTO:-0500
TZNAME:EST
END:STANDARD
END:VTIMEZONE
END:VCALENDAR