BEGIN:VCALENDAR
VERSION:2.0
PRODID:-//wp-events-plugin.com//7.0.4//EN
TZID:America/New_York
X-WR-TIMEZONE:America/New_York
BEGIN:VEVENT
UID:90@wibsturbridge.org
DTSTART;TZID=America/New_York:20260211T120000
DTEND;TZID=America/New_York:20260211T140000
DTSTAMP:20260119T161456Z
URL:https://wibsturbridge.org/event/february-luncheon-3/
SUMMARY:February Luncheon
DESCRIPTION:Venue: Publick House\n\nSpeaker: Maria Dubois\n\nTopic: AI &amp
 \; How to use AI to grow your impact\n\n\nIt’s time to have a conversati
 on about AI. AI is changing how businesses grow—and you don’t need to 
 be tech-savvy to take advantage of it. Learn how artificial intelligence i
 sn’t just hype but a practical tool you can use today to save time\, inc
 rease productivity\, and get more support that you need in your life and w
 ork.\n\nMembers &amp\; non-members are Welcome! \nRegister Today! 👇 \
 n\n\n\n🫶 As part of the Woman in Business Gives Back Program\, we will 
 be accepting food donations at our January &amp\; February events for the 
 Bridge Fridge in Southbridge. 𝗣𝗹𝗲𝗮𝘀𝗲 𝗯𝗿𝗶𝗻
 𝗴 𝗳𝗼𝗼𝗱 𝗱𝗼𝗻𝗮𝘁𝗶𝗼𝗻𝘀 𝘁𝗼 𝘁
 𝗵𝗲 𝗝𝗮𝗻𝘂𝗮𝗿𝘆 &amp\; February 𝗪𝗜𝗕 𝗠
 𝗲𝗲𝘁𝗶𝗻𝗴𝘀.\n🥫𝗔𝗰𝗰𝗲𝗽𝘁𝗲𝗱 𝗙
 𝗼𝗼𝗱 𝗜𝘁𝗲𝗺𝘀:\n• All produce items\n• Unopened fr
 ozen foods\n• Prepackaged frozen meals\n• Breads &amp\; pastries\n• 
 Pantry staples - bread\, sugar\, flour\, canned goods etc.\n• Packed &am
 p\; labeled cheese\, milk\, yogurt\, etc.\n• Packaged factory sealed del
 i meats\n🚫𝗡𝗢-𝗿𝗮𝘄 𝗺𝗲𝗮𝘁𝘀\, 𝗲𝘅𝗽𝗶
 𝗿𝗲𝗱 𝗶𝘁𝗲𝗺𝘀 𝗼𝗿 𝗴𝗹𝗮𝘀𝘀 𝗷𝗮
 𝗿𝘀\n\n Don’t forget about our Raffle! Our members take turns donat
 ing items that we raffle off during the event. Raffle Tickets are 3 for $5
 \, all proceeds go toward our WIB Gives Back Programs. \n\n𝗪𝗲 𝗮
 𝗿𝗲 𝗹𝗼𝗼𝗸𝗶𝗻𝗴 𝗳𝗼𝗿𝘄𝗮𝗿𝗱 𝘁
 𝗼 𝘀𝗲𝗲𝗶𝗻𝗴 𝘆𝗼𝘂 𝘁𝗵𝗲𝗿𝗲!\n\n
ATTACH;FMTTYPE=image/jpeg:https://wibsturbridge.org/wp-content/uploads/202
 5/12/feb-11-2026.jpg
CATEGORIES:In-Person Networking,Luncheon
LOCATION:https://www.google.com/maps/place/Publick+House+Historic+Inn/@42.1
 067581,-72.0818363,17z/data=!4m9!3m8!1s0x89e6a3b177c53823:0x1f3d1dc289f36b
 87!5m2!4m1!1i2!8m2!3d42.1067581!4d-72.0792614!16s%2Fg%2F1tmqmtdq?entry=ttu
 &g_ep=EgoyMDI1MTIwOS4wIKXMDSoASAFQAw%3D%3D
END:VEVENT
BEGIN:VTIMEZONE
TZID:America/New_York
X-LIC-LOCATION:America/New_York
BEGIN:STANDARD
DTSTART:20251102T010000
TZOFFSETFROM:-0400
TZOFFSETTO:-0500
TZNAME:EST
END:STANDARD
END:VTIMEZONE
END:VCALENDAR