BEGIN:VCALENDAR
VERSION:2.0
PRODID:-//wp-events-plugin.com//7.0.4//EN
TZID:America/New_York
X-WR-TIMEZONE:America/New_York
BEGIN:VEVENT
UID:48@wibsturbridge.org
DTSTART;TZID=America/New_York:20240214T120000
DTEND;TZID=America/New_York:20240214T140000
DTSTAMP:20240213T154714Z
URL:https://wibsturbridge.org/event/february-luncheon/
SUMMARY:February Luncheon
DESCRIPTION:2/13/2024 UPDATE - Due to the snowstorm\, we will need to use t
 he main entrance (follow the posted signs). Once you arrive\, park in the 
 visitor parking area and use the "Price Lobby" entrance. There will be sig
 ns and staff to help you navigate. Our luncheon will be held in the "Great
  Room."\n\n\n\n&nbsp\;\n\nLove Your Network: Join Woman in Business Inc. f
 or a Valentine's Day Lunch &amp\; Networking Event!  Elevate your connec
 tions\, share business passions\, and enjoy a delightful lunch with like-m
 inded women. Let's celebrate the power of professional relationships!\n#Lo
 veYourNetwork #WomenInBusiness\nMembers &amp\; non-members are Welcome! 
 \nRegister Today! 👇 \n\n\n\n\n\nJessica Jamison is a Licensed Mental H
 ealth Counselor and Certified Personal Trainer helping chronic dieters fin
 ally find peace with food and fitness. As a recovered eating disorder warr
 ior with over 8 years of experience in the wellness industry\, it is her m
 ission to support others in building strength and confidence both inside a
 nd out. She is also a Mom of 2 born and raised in Central MA!  In the pre
 sentation "Unleashing Body Confidence for the Women in Business\," we wil
 l discuss the link between body confidence and professional success\, hig
 hlighting how self-esteem can empower women to pursue opportunities with 
 increased confidence. You will gain insight into the impact of societal 
 beauty standards on women in business and learn how to embrace diverse be
 auty definitions. Additionally\, you will learn how to integrate self-car
 e practices\, including those that foster body confidence\, into your pro
 fessional routines\, emphasizing its role in enhancing leadership and res
 ilience.\n\n\n\n🫶 As part of the Woman in Business Gives Back Program\,
  we will be accepting food donations at our January &amp\; February events
  for the Bridge Fridge in Southbridge. 𝗣𝗹𝗲𝗮𝘀𝗲 𝗯𝗿
 𝗶𝗻𝗴 𝗳𝗼𝗼𝗱 𝗱𝗼𝗻𝗮𝘁𝗶𝗼𝗻𝘀 𝘁
 𝗼 𝘁𝗵𝗲 𝗝𝗮𝗻𝘂𝗮𝗿𝘆 𝗼𝗿 𝗙𝗲𝗯𝗿
 𝘂𝗮𝗿𝘆 𝗪𝗜𝗕 𝗠𝗲𝗲𝘁𝗶𝗻𝗴𝘀.\n🥫𝗔
 𝗰𝗰𝗲𝗽𝘁𝗲𝗱 𝗙𝗼𝗼𝗱 𝗜𝘁𝗲𝗺𝘀:\n• A
 ll produce items\n• Unopened frozen foods\n• Prepackaged frozen meals\
 n• Breads &amp\; pastries\n• Pantry staples - bread\, sugar\, flour\, 
 canned goods etc.\n• Packed &amp\; labeled cheese\, milk\, yogurt\, etc.
 \n• Packaged factory sealed deli meats\n🚫𝗡𝗢-𝗿𝗮𝘄 𝗺
 𝗲𝗮𝘁𝘀\, 𝗲𝘅𝗽𝗶𝗿𝗲𝗱 𝗶𝘁𝗲𝗺𝘀 𝗼
 𝗿 𝗴𝗹𝗮𝘀𝘀 𝗷𝗮𝗿𝘀\n\n Don’t forget about our Ra
 ffle! Our members take turns donating items that we raffle off during the 
 event. Raffle Tickets are 3 for $5\, all proceeds go toward our WIB Gives 
 Back Programs. \n\n𝗪𝗲 𝗮𝗿𝗲 𝗹𝗼𝗼𝗸𝗶𝗻𝗴 𝗳
 𝗼𝗿𝘄𝗮𝗿𝗱 𝘁𝗼 𝘀𝗲𝗲𝗶𝗻𝗴 𝘆𝗼𝘂 
 𝘁𝗵𝗲𝗿𝗲!\n\n
ATTACH;FMTTYPE=image/jpeg:https://wibsturbridge.org/wp-content/uploads/202
 3/11/feb2024luncheon.png
CATEGORIES:In-Person Networking,Luncheon
LOCATION:The Overlook\, Charlton\, MA\, 88 Masonic Home Road\, Charlton\, M
 A\, 01507\, United States
GEO:42.138816;-71.97453
X-APPLE-STRUCTURED-LOCATION;VALUE=URI;X-ADDRESS=88 Masonic Home Road\, Char
 lton\, MA\, 01507\, United States;X-APPLE-RADIUS=100;X-TITLE=The Overlook\
 , Charlton\, MA:geo:42.138816,-71.97453
END:VEVENT
BEGIN:VTIMEZONE
TZID:America/New_York
X-LIC-LOCATION:America/New_York
BEGIN:STANDARD
DTSTART:20231105T010000
TZOFFSETFROM:-0400
TZOFFSETTO:-0500
TZNAME:EST
END:STANDARD
END:VTIMEZONE
END:VCALENDAR