BEGIN:VCALENDAR
VERSION:2.0
PRODID:-//wp-events-plugin.com//7.0.4//EN
TZID:America/New_York
X-WR-TIMEZONE:America/New_York
BEGIN:VEVENT
UID:47@wibsturbridge.org
DTSTART;TZID=America/New_York:20240110T173000
DTEND;TZID=America/New_York:20240110T193000
DTSTAMP:20231230T182444Z
URL:https://wibsturbridge.org/event/january-networking-event-2/
SUMMARY:January Networking Event
DESCRIPTION:🚀Elevate Your Year: Join Us for Woman in Business Inc's Firs
 t Networking Event of 2024!\n\n👭As we step into a new year filled with 
 limitless possibilities\, Woman in Business Inc is excited to invite you t
 o our first networking event of 2024 on January 10th.   \n\n  🎯 Embr
 ace the opportunity to kickstart your year by connecting with like-minded 
 women in the business world! 🚀\n\n\n\n🫶 As part of the Woman in Busi
 ness Gives Back Program\, we will be accepting food donations at our Janua
 ry &amp\; February events for the Bridge Fridge in Southbridge. 𝗣𝗹
 𝗲𝗮𝘀𝗲 𝗯𝗿𝗶𝗻𝗴 𝗳𝗼𝗼𝗱 𝗱𝗼𝗻𝗮
 𝘁𝗶𝗼𝗻𝘀 𝘁𝗼 𝘁𝗵𝗲 𝗝𝗮𝗻𝘂𝗮𝗿𝘆 
 𝗼𝗿 𝗙𝗲𝗯𝗿𝘂𝗮𝗿𝘆 𝗪𝗜𝗕 𝗠𝗲𝗲𝘁
 𝗶𝗻𝗴𝘀.\n🥫𝗔𝗰𝗰𝗲𝗽𝘁𝗲𝗱 𝗙𝗼𝗼𝗱 
 𝗜𝘁𝗲𝗺𝘀:\n• All produce items\n• Unopened frozen foods\n
 • Prepackaged frozen meals\n• Breads &amp\; pastries\n• Pantry stapl
 es - bread\, sugar\, flour\, canned goods etc.\n• Packed &amp\; labeled 
 cheese\, milk\, yogurt\, etc.\n• Packaged factory sealed deli meats\n
 🚫𝗡𝗢-𝗿𝗮𝘄 𝗺𝗲𝗮𝘁𝘀\, 𝗲𝘅𝗽𝗶𝗿𝗲
 𝗱 𝗶𝘁𝗲𝗺𝘀 𝗼𝗿 𝗴𝗹𝗮𝘀𝘀 𝗷𝗮𝗿𝘀\n
 \n\n Don’t forget about our Raffle! Our members take turns donating item
 s that we raffle off during the event. Raffle Tickets are 3 for $5\, all p
 roceeds go toward our WIB Gives Back Programs. \n\n𝗪𝗲 𝗮𝗿𝗲 
 𝗹𝗼𝗼𝗸𝗶𝗻𝗴 𝗳𝗼𝗿𝘄𝗮𝗿𝗱 𝘁𝗼 𝘀
 𝗲𝗲𝗶𝗻𝗴 𝘆𝗼𝘂 𝘁𝗵𝗲𝗿𝗲!\n\n\n\n&nbsp\;
ATTACH;FMTTYPE=image/jpeg:https://wibsturbridge.org/wp-content/uploads/202
 3/11/Jan-2023-1.png
CATEGORIES:Appetizers,In-Person Networking
LOCATION:Rapscallion Pub\, 3 Arnold Road\, Sturbridge \, MA\, 01566\, Unite
 d States
GEO:42.114993;-72.106762
X-APPLE-STRUCTURED-LOCATION;VALUE=URI;X-ADDRESS=3 Arnold Road\, Sturbridge 
 \, MA\, 01566\, United States;X-APPLE-RADIUS=100;X-TITLE=Rapscallion Pub:g
 eo:42.114993,-72.106762
END:VEVENT
BEGIN:VTIMEZONE
TZID:America/New_York
X-LIC-LOCATION:America/New_York
BEGIN:STANDARD
DTSTART:20231105T010000
TZOFFSETFROM:-0400
TZOFFSETTO:-0500
TZNAME:EST
END:STANDARD
END:VTIMEZONE
END:VCALENDAR