BEGIN:VCALENDAR
VERSION:2.0
PRODID:-//wp-events-plugin.com//7.0.4//EN
TZID:America/New_York
X-WR-TIMEZONE:America/New_York
BEGIN:VEVENT
UID:89@wibsturbridge.org
DTSTART;TZID=America/New_York:20260114T173000
DTEND;TZID=America/New_York:20260114T193000
DTSTAMP:20251230T165321Z
URL:https://wibsturbridge.org/event/january-networking-event-4/
SUMMARY:January Networking Event
DESCRIPTION:Venue - Sawdust Coffee House &amp\; Dessert Bar\nElevate Your Y
 ear\nJoin Us for Woman in Business Inc’s First Networking Event of 2026!
  \nAs we step into a new year filled with limitless possibilities\, Woman
  in Business Inc is excited to invite you to our first networking event of
  2026 on January 14th \nEmbrace the opportunity to kickstart your year by
  connecting with like-minded women in the business world!\n\n#womensupport
 ingwomen #womeninbusiness#womennetworking\n\n\n🫶 As part of the Woman 
 in Business Gives Back Program\, we will be accepting food donations at ou
 r January &amp\; February events for the Bridge Fridge in Southbridge. 
 𝗣𝗹𝗲𝗮𝘀𝗲 𝗯𝗿𝗶𝗻𝗴 𝗳𝗼𝗼𝗱 𝗱𝗼
 𝗻𝗮𝘁𝗶𝗼𝗻𝘀 𝘁𝗼 𝘁𝗵𝗲 𝗝𝗮𝗻𝘂𝗮
 𝗿y and February 𝗪𝗜𝗕 𝗠𝗲𝗲𝘁𝗶𝗻𝗴𝘀.\n🥫
 𝗔𝗰𝗰𝗲𝗽𝘁𝗲𝗱 𝗙𝗼𝗼𝗱 𝗜𝘁𝗲𝗺𝘀:\n
 • All produce items\n• Unopened frozen foods\n• Prepackaged frozen m
 eals\n• Breads &amp\; pastries\n• Pantry staples - bread\, sugar\, flo
 ur\, canned goods etc.\n• Packed &amp\; labeled cheese\, milk\, yogurt\,
  etc.\n• Packaged factory sealed deli meats\n🚫𝗡𝗢-𝗿𝗮𝘄 
 𝗺𝗲𝗮𝘁𝘀\, 𝗲𝘅𝗽𝗶𝗿𝗲𝗱 𝗶𝘁𝗲𝗺𝘀 
 𝗼𝗿 𝗴𝗹𝗮𝘀𝘀 𝗷𝗮𝗿𝘀\n\n Don’t forget about ou
 r Raffle! Our members take turns donating items that we raffle off during 
 the event. Raffle Tickets are 3 for $5\, all proceeds go toward our WIB Gi
 ves Back Programs. \n\n𝗪𝗲 𝗮𝗿𝗲 𝗹𝗼𝗼𝗸𝗶𝗻𝗴 
 𝗳𝗼𝗿𝘄𝗮𝗿𝗱 𝘁𝗼 𝘀𝗲𝗲𝗶𝗻𝗴 𝘆𝗼
 𝘂 𝘁𝗵𝗲𝗿𝗲!\n\n\n\n&nbsp\;
ATTACH;FMTTYPE=image/jpeg:https://wibsturbridge.org/wp-content/uploads/202
 5/12/Jan-2026.jpg
CATEGORIES:Appetizers,In-Person Networking
LOCATION:https://www.google.com/maps?client=safari&sca_esv=c75784e51e2fff17
 &rls=en&output=search&q=sawdust+coffee+house&source=lnms&fbs=AEQNm0Aa4sjWe
 7Rqy32pFwRj0UkWd8nbOJfsBGGB5IQQO6L3J5fCQuDw5vrzPt_cVO2GgWVFE8vW2AHqlUIPLj4
 IJkQ_gho6zYiF-6uxYi0VBDvH3B0Y_ih9dmJ9G2hU2JSm8XEmkemKHWsgNzKt8qOXEpHTmFSEQ
 Mt3NnKYpQ9nxIFOGU_E0qA1e8rJVq1b0_mf1UhuLQ9X9Y_hpIrBlFTj0HuoOHRScQ&entry=mc
 &ved=1t:200715&ictx=111
END:VEVENT
BEGIN:VTIMEZONE
TZID:America/New_York
X-LIC-LOCATION:America/New_York
BEGIN:STANDARD
DTSTART:20251102T010000
TZOFFSETFROM:-0400
TZOFFSETTO:-0500
TZNAME:EST
END:STANDARD
END:VTIMEZONE
END:VCALENDAR