BEGIN:VCALENDAR
VERSION:2.0
PRODID:-//wp-events-plugin.com//7.0.4//EN
TZID:America/New_York
X-WR-TIMEZONE:America/New_York
BEGIN:VEVENT
UID:31@wibsturbridge.org
DTSTART;TZID=America/New_York:20230111T173000
DTEND;TZID=America/New_York:20230111T193000
DTSTAMP:20230101T212525Z
URL:https://wibsturbridge.org/event/january-networking-event/
SUMMARY:January Networking Event
DESCRIPTION:
ATTACH;FMTTYPE=image/jpeg:https://wibsturbridge.org/wp-content/uploads/202
 2/12/Untitled-design.png
CATEGORIES:Appetizers,In-Person Networking
LOCATION:Rapscallion\, 3 Arnold Rd.\, Sturbridge\, MA\, 01518\, United Stat
 es
X-APPLE-STRUCTURED-LOCATION;VALUE=URI;X-ADDRESS=3 Arnold Rd.\, Sturbridge\,
  MA\, 01518\, United States;X-APPLE-RADIUS=100;X-TITLE=Rapscallion:geo:0,0
END:VEVENT
BEGIN:VTIMEZONE
TZID:America/New_York
X-LIC-LOCATION:America/New_York
BEGIN:STANDARD
DTSTART:20221106T010000
TZOFFSETFROM:-0400
TZOFFSETTO:-0500
TZNAME:EST
END:STANDARD
END:VTIMEZONE
END:VCALENDAR