BEGIN:VCALENDAR
VERSION:2.0
PRODID:-//wp-events-plugin.com//7.0.4//EN
TZID:America/New_York
X-WR-TIMEZONE:America/New_York
BEGIN:VEVENT
UID:53@wibsturbridge.org
DTSTART;TZID=America/New_York:20240612T120000
DTEND;TZID=America/New_York:20240612T140000
DTSTAMP:20240421T160423Z
URL:https://wibsturbridge.org/event/june-luncheon-scholarship-celebration-
 2/
SUMMARY:June Luncheon - Scholarship Celebration
DESCRIPTION:&nbsp\;\n\nOver the last 30+ years\, Woman in Business has awar
 ded over $65\,000 to over 100 well-deserving high school seniors from our 
 community schools to help support their continuing education. This year WI
 B will award four $500 Scholarships in addition to the Judith A. Jaeger Me
 morial Scholarship\, which comes with a $1\,000 award\, and is presented t
 o the top candidate by the family of WIB Founder Judith Jaeger\, in her me
 mory.\n\n&nbsp\;\n\n\n\n Don’t forget about our Raffle! Our members take
  turns donating items that we raffle off during the event. Raffle Tickets 
 are 3 for $5\, all proceeds go toward our various WIB Gives Back Programs.
  \n\nLooking forward to seeing everyone at the luncheon!\n\n
ATTACH;FMTTYPE=image/jpeg:https://wibsturbridge.org/wp-content/uploads/202
 3/11/Web-June.png
CATEGORIES:In-Person Networking,Luncheon,Scholarship Program,Woman In
 Business Gives Back
LOCATION:https://www.mapquest.com/us/massachusetts/pine-ridge-country-club-
 21010827
END:VEVENT
BEGIN:VTIMEZONE
TZID:America/New_York
X-LIC-LOCATION:America/New_York
BEGIN:DAYLIGHT
DTSTART:20240310T030000
TZOFFSETFROM:-0500
TZOFFSETTO:-0400
TZNAME:EDT
END:DAYLIGHT
END:VTIMEZONE
END:VCALENDAR