BEGIN:VCALENDAR
VERSION:2.0
PRODID:-//wp-events-plugin.com//7.0.4//EN
TZID:America/New_York
X-WR-TIMEZONE:America/New_York
BEGIN:VEVENT
UID:74@wibsturbridge.org
DTSTART;TZID=America/New_York:20250611T120000
DTEND;TZID=America/New_York:20250611T140000
DTSTAMP:20250312T125852Z
URL:https://wibsturbridge.org/event/june-luncheon-scholarship-celebration-
 3/
SUMMARY:June Luncheon - Scholarship Celebration
DESCRIPTION:Over the last 30+ years\, Woman in Business has awarded over $6
 5\,000 to over 100 well-deserving high school seniors from our community s
 chools to help support their continuing education. This year WIB will awar
 d four $500 Scholarships in addition to the Judith A. Jaeger Memorial Scho
 larship\, which comes with a $1\,000 award\, and is presented to the top c
 andidate by the family of WIB Founder Judith Jaeger\, in her memory.\n\n\n
 \n&nbsp\;\n\n Don’t forget about our Raffle! Our members take turns dona
 ting items that we raffle off during the event. Raffle Tickets are 3 for $
 5\, all proceeds go toward our various WIB Gives Back Programs. \n\nLookin
 g forward to seeing everyone at the luncheon!\n\n
ATTACH;FMTTYPE=image/jpeg:https://wibsturbridge.org/wp-content/uploads/202
 4/10/june-2025.jpg
CATEGORIES:In-Person Networking,Luncheon,Scholarship Program,Woman In
 Business Gives Back
LOCATION:Pine Ridge Country  Club\, 28 Pleasant St\, North Oxford \, MA\, 0
 1537\, United States
X-APPLE-STRUCTURED-LOCATION;VALUE=URI;X-ADDRESS=28 Pleasant St\, North Oxfo
 rd \, MA\, 01537\, United States;X-APPLE-RADIUS=100;X-TITLE=Pine Ridge Cou
 ntry  Club:geo:0,0
END:VEVENT
BEGIN:VTIMEZONE
TZID:America/New_York
X-LIC-LOCATION:America/New_York
BEGIN:DAYLIGHT
DTSTART:20250309T030000
TZOFFSETFROM:-0500
TZOFFSETTO:-0400
TZNAME:EDT
END:DAYLIGHT
END:VTIMEZONE
END:VCALENDAR