BEGIN:VCALENDAR
VERSION:2.0
PRODID:-//wp-events-plugin.com//7.0.4//EN
TZID:America/New_York
X-WR-TIMEZONE:America/New_York
BEGIN:VEVENT
UID:97@wibsturbridge.org
DTSTART;TZID=America/New_York:20260610T120000
DTEND;TZID=America/New_York:20260610T140000
DTSTAMP:20260415T180402Z
URL:https://wibsturbridge.org/event/june-luncheon-scholarship-celebration-
 4/
SUMMARY:June Luncheon - Scholarship Celebration
DESCRIPTION:Over the last 30+ years\, Woman in Business has awarded over $6
 8\,000 to over 100 well-deserving high school seniors from our community s
 chools to help support their continuing education. This year WIB will awar
 d four $500 Scholarships in addition to the Judith A. Jaeger Memorial Scho
 larship\, which comes with a $1\,000 award\, and is presented to the top c
 andidate by the family of WIB Founder Judith Jaeger\, in her memory.\n\nVe
 nue: Publick House\n\n\n\nLooking forward to seeing everyone at the lunche
 on!\n\n
ATTACH;FMTTYPE=image/jpeg:https://wibsturbridge.org/wp-content/uploads/202
 6/04/June-2026-lunch-NEW.jpg
CATEGORIES:In-Person Networking,Luncheon,Scholarship Program,Woman In
 Business Gives Back
LOCATION:https://www.google.com/maps/place/Publick+House+Historic+Inn/@42.1
 067581,-72.0818363,17z/data=!3m1!4b1!4m9!3m8!1s0x89e6a3b177c53823:0x1f3d1d
 c289f36b87!5m2!4m1!1i2!8m2!3d42.1067581!4d-72.0792614!16s%2Fg%2F1tmqmtdq?e
 ntry=ttu&g_ep=EgoyMDI2MDQxMi4wIKXMDSoASAFQAw%3D%3D
END:VEVENT
BEGIN:VTIMEZONE
TZID:America/New_York
X-LIC-LOCATION:America/New_York
BEGIN:DAYLIGHT
DTSTART:20260308T030000
TZOFFSETFROM:-0500
TZOFFSETTO:-0400
TZNAME:EDT
END:DAYLIGHT
END:VTIMEZONE
END:VCALENDAR