BEGIN:VCALENDAR
VERSION:2.0
PRODID:-//wp-events-plugin.com//7.0.4//EN
TZID:America/New_York
X-WR-TIMEZONE:America/New_York
BEGIN:VEVENT
UID:39@wibsturbridge.org
DTSTART;TZID=America/New_York:20230614T120000
DTEND;TZID=America/New_York:20230614T140000
DTSTAMP:20230415T114737Z
URL:https://wibsturbridge.org/event/june-luncheon-scholarship-celebration/
SUMMARY:June Luncheon - Scholarship Celebration
DESCRIPTION:Join us on Wednesday\, June 14th at the Cohasse Country Club in
  Southbridge from 12 to 2:00pm for our June luncheon. Woman in Business wi
 ll be celebrating the recipients of the annual WIB scholarships.\n\nOver t
 he last 30+ years\, Woman in Business has awarded over $60\,000 to over 10
 0 well-deserving high school seniors from our community schools to help su
 pport their continuing education. This year WIB will award four $500 Schol
 arships in addition to the Judith A. Jaeger Memorial Scholarship\, which c
 omes with a $1\,000 award\, and is presented to the top candidate by the f
 amily of WIB Founder Judith Jaeger\, in her memory.\n\n Don’t forget abo
 ut our Raffle! Our members take turns donating items that we raffle off du
 ring the event. Raffle Tickets are 3 for $5\, all proceeds go toward our v
 arious WIB Gives Back Programs. \n\nLooking forward to seeing everyone at 
 the luncheon!\n\nNOTE: We extended our luncheon meeting to 2 full hours to
  allow for 30 minutes of optional networking from 1:30-2:00. \n\n
ATTACH;FMTTYPE=image/jpeg:https://wibsturbridge.org/wp-content/uploads/202
 3/04/Facebook-EVENT-Cover-.png
CATEGORIES:In-Person Networking,Luncheon
LOCATION:Cohasse Country Club\, 393 Eastford Road \, Southbridge\, 01550\, 
 United States
GEO:42.060273;-72.044898
X-APPLE-STRUCTURED-LOCATION;VALUE=URI;X-ADDRESS=393 Eastford Road \, Southb
 ridge\, 01550\, United States;X-APPLE-RADIUS=100;X-TITLE=Cohasse Country C
 lub:geo:42.060273,-72.044898
END:VEVENT
BEGIN:VTIMEZONE
TZID:America/New_York
X-LIC-LOCATION:America/New_York
BEGIN:DAYLIGHT
DTSTART:20230312T030000
TZOFFSETFROM:-0500
TZOFFSETTO:-0400
TZNAME:EDT
END:DAYLIGHT
END:VTIMEZONE
END:VCALENDAR