BEGIN:VCALENDAR
VERSION:2.0
PRODID:-//wp-events-plugin.com//7.0.4//EN
TZID:America/New_York
X-WR-TIMEZONE:America/New_York
BEGIN:VEVENT
UID:49@wibsturbridge.org
DTSTART;TZID=America/New_York:20240313T173000
DTEND;TZID=America/New_York:20240313T193000
DTSTAMP:20240126T153750Z
URL:https://wibsturbridge.org/event/march-networking-event-2/
SUMMARY:March Networking Event
DESCRIPTION:March into Networking Excellence!  Woman in Business Inc. invi
 tes you to our dynamic March Networking Event. Join 35-45 accomplished lad
 ies for an evening of connections\, collaborations\, and community. Elevat
 e your network with us! Secure your spot now and be part of this empowerin
 g gathering. #WomenInBusiness #MarchNetworking\nMembers &amp\; non-member
 s are Welcome! \nRegister Today! 👇\n\n\n\n Don’t forget about our Ra
 ffle! Our members take turns donating items that we raffle off during the 
 event. Raffle Tickets are 3 for $5\, all proceeds go toward our WIB Gives 
 Back Programs. \n\n𝗪𝗲 𝗮𝗿𝗲 𝗹𝗼𝗼𝗸𝗶𝗻𝗴 𝗳
 𝗼𝗿𝘄𝗮𝗿𝗱 𝘁𝗼 𝘀𝗲𝗲𝗶𝗻𝗴 𝘆𝗼𝘂 
 𝘁𝗵𝗲𝗿𝗲!\n\n\n\n&nbsp\;
ATTACH;FMTTYPE=image/jpeg:https://wibsturbridge.org/wp-content/uploads/202
 3/11/March-Networking.png
CATEGORIES:Appetizers,In-Person Networking
LOCATION:https://maps.app.goo.gl/YakqpGQVtHcHWtk37
END:VEVENT
BEGIN:VTIMEZONE
TZID:America/New_York
X-LIC-LOCATION:America/New_York
BEGIN:DAYLIGHT
DTSTART:20240310T030000
TZOFFSETFROM:-0500
TZOFFSETTO:-0400
TZNAME:EDT
END:DAYLIGHT
END:VTIMEZONE
END:VCALENDAR