BEGIN:VCALENDAR
VERSION:2.0
PRODID:-//wp-events-plugin.com//7.0.4//EN
TZID:America/New_York
X-WR-TIMEZONE:America/New_York
BEGIN:VEVENT
UID:91@wibsturbridge.org
DTSTART;TZID=America/New_York:20260311T173000
DTEND;TZID=America/New_York:20260311T193000
DTSTAMP:20260225T145523Z
URL:https://wibsturbridge.org/event/march-networking-event-4/
SUMMARY:March Networking Event
DESCRIPTION:VENUE: Cedar Street Cafe\n\nMarch into Networking Excellence! 
  Woman in Business Inc. invites you to our dynamic March Networking Event.
  Join accomplished ladies for an evening of connections\, collaborations\,
  and community. Elevate your network with us! Secure your spot now and be 
 part of this empowering gathering. #WomenInBusiness #MarchNetworking\nMem
 bers &amp\; non-members are Welcome! \n\nRegister Today! 👇\n\n\n\n&nbs
 p\;\n\n&nbsp\;\n\n Don’t forget about our Raffle! Our members take turns
  donating items that we raffle off during the event. Raffle Tickets are 3 
 for $5\, all proceeds go toward our WIB Gives Back Programs. \n\n𝗪𝗲 
 𝗮𝗿𝗲 𝗹𝗼𝗼𝗸𝗶𝗻𝗴 𝗳𝗼𝗿𝘄𝗮𝗿𝗱 
 𝘁𝗼 𝘀𝗲𝗲𝗶𝗻𝗴 𝘆𝗼𝘂 𝘁𝗵𝗲𝗿𝗲!\n\n\n
 \n&nbsp\;
ATTACH;FMTTYPE=image/jpeg:https://wibsturbridge.org/wp-content/uploads/202
 5/12/march-2026-meeting-image.jpg
CATEGORIES:Appetizers,In-Person Networking
LOCATION:https://www.google.com/maps/place/Cedar+Street+Café/@42.1129531,-
 72.1027976,17z/data=!4m10!1m2!2m1!1scedar+street+cafe!3m6!1s0x89e6a3064f54
 c15d:0xa4ec587ed79ae925!8m2!3d42.1129531!4d-72.0982915!15sChFjZWRhciBzdHJl
 ZXQgY2FmZVoTIhFjZWRhciBzdHJlZXQgY2FmZZIBBGNhZmXgAQA!16s%2Fg%2F11g6qvdcds?e
 ntry=ttu&g_ep=EgoyMDI2MDIyMi4wIKXMDSoASAFQAw%3D%3D
END:VEVENT
BEGIN:VTIMEZONE
TZID:America/New_York
X-LIC-LOCATION:America/New_York
BEGIN:DAYLIGHT
DTSTART:20260308T030000
TZOFFSETFROM:-0500
TZOFFSETTO:-0400
TZNAME:EDT
END:DAYLIGHT
END:VTIMEZONE
END:VCALENDAR