BEGIN:VCALENDAR
VERSION:2.0
PRODID:-//wp-events-plugin.com//7.0.4//EN
TZID:America/New_York
X-WR-TIMEZONE:America/New_York
BEGIN:VEVENT
UID:35@wibsturbridge.org
DTSTART;TZID=America/New_York:20230308T173000
DTEND;TZID=America/New_York:20230308T193000
DTSTAMP:20230302T134732Z
URL:https://wibsturbridge.org/event/march-networking-event/
SUMMARY:March Networking Event
DESCRIPTION:𝗚𝗿𝗮𝗯 𝘆𝗼𝘂𝗿 𝗯𝘂𝘀𝗶𝗻𝗲𝘀
 𝘀 𝗰𝗮𝗿𝗱𝘀 𝗮𝗻𝗱 𝗷𝗼𝗶𝗻 𝘂𝘀 𝗳𝗼
 𝗿 𝗮𝗽𝗽𝗲𝘁𝗶𝘇𝗲𝗿𝘀 𝗮𝗻𝗱 𝗻𝗲𝘁
 𝘄𝗼𝗿𝗸𝗶𝗻𝗴! If you have not been to the Deep Roots Disti
 llery you are in for a treat!\n\n\n\n Don’t forget about our Raffle! Our
  members take turns donating items that we raffle off during the event. Ra
 ffle Tickets are 3 for $5\, all proceeds go toward our WIB Gives Back Prog
 rams. \n\n𝗪𝗲 𝗮𝗿𝗲 𝗹𝗼𝗼𝗸𝗶𝗻𝗴 𝗳𝗼𝗿
 𝘄𝗮𝗿𝗱 𝘁𝗼 𝘀𝗲𝗲𝗶𝗻𝗴 𝘆𝗼𝘂 𝘁𝗵
 𝗲𝗿𝗲!\n\n\n\n&nbsp\;
ATTACH;FMTTYPE=image/jpeg:https://wibsturbridge.org/wp-content/uploads/202
 3/01/March-2023-1.png
CATEGORIES:Appetizers,In-Person Networking
LOCATION:Deep Roots Distillery\, 559 Main Street\, Fiskdale\, MA\, 01518\, 
 United States
GEO:42.115959;-72.113011
X-APPLE-STRUCTURED-LOCATION;VALUE=URI;X-ADDRESS=559 Main Street\, Fiskdale\
 , MA\, 01518\, United States;X-APPLE-RADIUS=100;X-TITLE=Deep Roots Distill
 ery:geo:42.115959,-72.113011
END:VEVENT
BEGIN:VTIMEZONE
TZID:America/New_York
X-LIC-LOCATION:America/New_York
BEGIN:STANDARD
DTSTART:20221106T010000
TZOFFSETFROM:-0400
TZOFFSETTO:-0500
TZNAME:EST
END:STANDARD
END:VTIMEZONE
END:VCALENDAR