BEGIN:VCALENDAR
VERSION:2.0
PRODID:-//wp-events-plugin.com//7.0.4//EN
TZID:America/New_York
X-WR-TIMEZONE:America/New_York
BEGIN:VEVENT
UID:52@wibsturbridge.org
DTSTART;TZID=America/New_York:20240508T173000
DTEND;TZID=America/New_York:20240508T193000
DTSTAMP:20240421T143350Z
URL:https://wibsturbridge.org/event/may-networking-event-2/
SUMMARY:May Networking Event
DESCRIPTION:Savor the Flavor of Networking at Sawdust Coffee House and Dess
 ert Bar! ☕️🍰 Join us for an  evening of appetizers\, connections\,
  and inspiration at our May Networking Event. Set against the cozy ambianc
 e of Sawdust\, mingle with fellow professionals and expand your network. D
 on't miss this opportunity to mix\, mingle\, and make meaningful connectio
 ns!  \n\n\n\n Don’t forget about our Raffle! Our members take turns do
 nating items that we raffle off during the event. Raffle Tickets are 3 for
  $5\, all proceeds go toward our WIB Gives Back Programs. \n\n𝗪𝗲 
 𝗮𝗿𝗲 𝗹𝗼𝗼𝗸𝗶𝗻𝗴 𝗳𝗼𝗿𝘄𝗮𝗿𝗱 
 𝘁𝗼 𝘀𝗲𝗲𝗶𝗻𝗴 𝘆𝗼𝘂 𝘁𝗵𝗲𝗿𝗲!\n\n
ATTACH;FMTTYPE=image/jpeg:https://wibsturbridge.org/wp-content/uploads/202
 3/11/May2-website.png
CATEGORIES:Appetizers,In-Person Networking,Networking
LOCATION:https://www.google.com/maps/dir/42.0495132,-72.0283424/sawdust+stu
 rbridge+ma/@42.0796957,-72.1052323,13z/data=!3m1!4b1!4m9!4m8!1m1!4e1!1m5!1
 m1!1s0x89e6a36a44522e95:0x92e1883acee22e7f!2m2!1d-72.093286!2d42.1103137?e
 ntry=ttu
END:VEVENT
BEGIN:VTIMEZONE
TZID:America/New_York
X-LIC-LOCATION:America/New_York
BEGIN:DAYLIGHT
DTSTART:20240310T030000
TZOFFSETFROM:-0500
TZOFFSETTO:-0400
TZNAME:EDT
END:DAYLIGHT
END:VTIMEZONE
END:VCALENDAR