BEGIN:VCALENDAR
VERSION:2.0
PRODID:-//wp-events-plugin.com//7.0.4//EN
TZID:America/New_York
X-WR-TIMEZONE:America/New_York
BEGIN:VEVENT
UID:96@wibsturbridge.org
DTSTART;TZID=America/New_York:20260513T173000
DTEND;TZID=America/New_York:20260513T193000
DTSTAMP:20260401T163051Z
URL:https://wibsturbridge.org/event/may-networking-event-4/
SUMMARY:May Networking Event
DESCRIPTION:VENUE: Raspcallion\n\n Woman in Business Inc. invites you to a
 n inspiring and dynamic May Networking Event. Join a community of accompli
 shed and ambitious women for an evening filled with meaningful connections
 \, collaborative opportunities\, and genuine support. This is more than ju
 st networking—it’s a chance to grow your circle\, share ideas\, and be
  part of a powerful community of women uplifting one another. Elevate your
  network and your impact with us. Secure your spot today and don’t miss 
 this empowering experience. #WomenInBusiness\nMembers &amp\; non-members 
 are Welcome! \n\nOUR SCHOLARSHIP AUCTION LAUNCHES TONIGHT!\n\nRegister To
 day! 👇\n\n\n\n&nbsp\;\n\n&nbsp\;\n\n Don’t forget about our Raffle! O
 ur members take turns donating items that we raffle off during the event. 
 Raffle Tickets are 3 for $5\, all proceeds go toward our WIB Gives Back Pr
 ograms. \n\n𝗪𝗲 𝗮𝗿𝗲 𝗹𝗼𝗼𝗸𝗶𝗻𝗴 𝗳𝗼
 𝗿𝘄𝗮𝗿𝗱 𝘁𝗼 𝘀𝗲𝗲𝗶𝗻𝗴 𝘆𝗼𝘂 𝘁
 𝗵𝗲𝗿𝗲!\n\n\n\n&nbsp\;
ATTACH;FMTTYPE=image/jpeg:https://wibsturbridge.org/wp-content/uploads/202
 6/04/may-26.jpg
CATEGORIES:Appetizers,In-Person Networking
LOCATION:Rapscallion Pub\, 3 Arnold Road\, Sturbridge \, MA\, 01566\, Unite
 d States
GEO:42.114993;-72.106762
X-APPLE-STRUCTURED-LOCATION;VALUE=URI;X-ADDRESS=3 Arnold Road\, Sturbridge 
 \, MA\, 01566\, United States;X-APPLE-RADIUS=100;X-TITLE=Rapscallion Pub:g
 eo:42.114993,-72.106762
END:VEVENT
BEGIN:VTIMEZONE
TZID:America/New_York
X-LIC-LOCATION:America/New_York
BEGIN:DAYLIGHT
DTSTART:20260308T030000
TZOFFSETFROM:-0500
TZOFFSETTO:-0400
TZNAME:EDT
END:DAYLIGHT
END:VTIMEZONE
END:VCALENDAR