BEGIN:VCALENDAR
VERSION:2.0
PRODID:-//wp-events-plugin.com//7.0.4//EN
TZID:America/New_York
X-WR-TIMEZONE:America/New_York
BEGIN:VEVENT
UID:46@wibsturbridge.org
DTSTART;TZID=America/New_York:20231108T120000
DTEND;TZID=America/New_York:20231108T140000
DTSTAMP:20231016T194513Z
URL:https://wibsturbridge.org/event/november-luncheon/
SUMMARY:November Luncheon
DESCRIPTION:\n\n Don’t forget about our Raffle! Our members take turns do
 nating items that we raffle off during the event. Raffle Tickets are 3 for
  $5\, all proceeds go toward our WIB Gives Back Programs. \n\n𝗪𝗲 
 𝗮𝗿𝗲 𝗹𝗼𝗼𝗸𝗶𝗻𝗴 𝗳𝗼𝗿𝘄𝗮𝗿𝗱 
 𝘁𝗼 𝘀𝗲𝗲𝗶𝗻𝗴 𝘆𝗼𝘂 𝘁𝗵𝗲𝗿𝗲!\n\n
ATTACH;FMTTYPE=image/jpeg:https://wibsturbridge.org/wp-content/uploads/202
 3/09/Event-Website-Nov-.png
CATEGORIES:In-Person Networking,Luncheon,Networking
LOCATION:https://maps.app.goo.gl/DeGnqnxYSeSPhg5B7
END:VEVENT
BEGIN:VTIMEZONE
TZID:America/New_York
X-LIC-LOCATION:America/New_York
BEGIN:STANDARD
DTSTART:20231105T010000
TZOFFSETFROM:-0400
TZOFFSETTO:-0500
TZNAME:EST
END:STANDARD
END:VTIMEZONE
END:VCALENDAR