BEGIN:VCALENDAR
VERSION:2.0
PRODID:-//wp-events-plugin.com//7.0.4//EN
TZID:America/New_York
X-WR-TIMEZONE:America/New_York
BEGIN:VEVENT
UID:43@wibsturbridge.org
DTSTART;TZID=America/New_York:20231011T173000
DTEND;TZID=America/New_York:20231011T193000
DTSTAMP:20230920T201149Z
URL:https://wibsturbridge.org/event/october-networking/
SUMMARY:October Networking Event
DESCRIPTION:𝗪𝗲 𝗲𝘅𝗽𝗲𝗰𝘁 𝗼𝘃𝗲𝗿 𝟱𝟬 
 𝗹𝗮𝗱𝗶𝗲𝘀 𝗮𝘁 𝗼𝘂𝗿 𝗢𝗰𝘁𝗼𝗯𝗲
 𝗿 𝗻𝗲𝘁𝘄𝗼𝗿𝗸𝗶𝗻𝗴 𝗲𝘃𝗲𝗻𝘁 - 𝗚
 𝗿𝗮𝗯 𝘆𝗼𝘂𝗿 𝗯𝘂𝘀𝗶𝗻𝗲𝘀𝘀 𝗰𝗮
 𝗿𝗱𝘀 𝗮𝗻𝗱 𝗷𝗼𝗶𝗻 𝘂𝘀!\n\n\n\nWoman In Busin
 ess Inc is partnering with 𝗗𝗶𝗴𝗻𝗶𝘁𝘆 𝗠𝗮𝘁𝘁
 𝗲𝗿𝘀 a non-profit organization that collects\, purchases and sup
 plies menstrual products\, bras and underwear to women and girls who are h
 omeless or disadvantaged\, in order to help them stay healthy\, regain sel
 f-confidence\, and live with basic dignity.  We will be accepting the fol
 lowing items at our meeting for our 𝗗𝗼𝗻𝗮𝘁𝗶𝗼𝗻 𝗗
 𝗿𝗶𝘃𝗲.\n\n  \n\n Don’t forget about our Raffle! Our members t
 ake turns donating items that we raffle off during the event. Raffle Ticke
 ts are 3 for $5\, all proceeds go toward our WIB Gives Back Programs. \n\n
 𝗗𝗶𝗿𝗲𝗰𝘁𝗶𝗼𝗻𝘀: Altruist is located in the Mill 
 building on Main street in Sturbridge\n\n𝗪𝗲 𝗮𝗿𝗲 𝗹𝗼
 𝗼𝗸𝗶𝗻𝗴 𝗳𝗼𝗿𝘄𝗮𝗿𝗱 𝘁𝗼 𝘀𝗲𝗲
 𝗶𝗻𝗴 𝘆𝗼𝘂 𝘁𝗵𝗲𝗿𝗲!\n\n
ATTACH;FMTTYPE=image/jpeg:https://wibsturbridge.org/wp-content/uploads/202
 3/08/New-Event-Bra-Drive-.png
CATEGORIES:Appetizers,Donation Drive,In-Person Networking,Networking,Woman
 In Business Gives Back
LOCATION:https://maps.app.goo.gl/YakqpGQVtHcHWtk37
END:VEVENT
BEGIN:VTIMEZONE
TZID:America/New_York
X-LIC-LOCATION:America/New_York
BEGIN:DAYLIGHT
DTSTART:20230312T030000
TZOFFSETFROM:-0500
TZOFFSETTO:-0400
TZNAME:EDT
END:DAYLIGHT
END:VTIMEZONE
END:VCALENDAR