BEGIN:VCALENDAR
VERSION:2.0
PRODID:-//wp-events-plugin.com//7.0.4//EN
TZID:America/New_York
X-WR-TIMEZONE:America/New_York
BEGIN:VEVENT
UID:51@wibsturbridge.org
DTSTART;TZID=America/New_York:20240508T083000
DTEND;TZID=America/New_York:20240519T180000
DTSTAMP:20240504T153607Z
URL:https://wibsturbridge.org/event/online-auction-scholarship-program/
SUMMARY:Online Auction - Scholarship Program
DESCRIPTION:Woman in Business Inc\, is excited to announce our 4th Annual o
 nline Scholarship Auction!\n\nONLINE AUCTION LINK \n\nOver the last 30+ y
 ears\, Woman in Business has awarded over $65\,000 to over 100 well-deserv
 ing high school seniors from our community schools to help support their c
 ontinuing education. This year WIB will award four $500 Scholarships in ad
 dition to the Judith A. Jaeger Memorial Scholarship\, which comes with a $
 1\,000 award\, and is presented to the top candidate by the family of WIB 
 Founder Judith Jaeger\, in her memory.\n\nIn 2021 we introduced our first 
 online Auction with great success and the help of our local business partn
 ers &amp\; friends who donate the wonderful auction items.\n\nA special TH
 NAK YOU to all our local business partners\, members\, and friends who hel
 p make this special fundraiser a popular and successful event. We apprecia
 te your generosity &amp\; support!\n\nLET'S DO THIS TOGETHER - Every aucti
 on dollar you spend goes directly to our cause!\n~Happy Bidding~ \n\n&nbsp
 \;\n\n&nbsp\;
ATTACH;FMTTYPE=image/jpeg:https://wibsturbridge.org/wp-content/uploads/202
 3/11/Scholarship-Auction-2024.png
CATEGORIES:Online Auction,Raising Money for Education,Scholarship Program
END:VEVENT
BEGIN:VTIMEZONE
TZID:America/New_York
X-LIC-LOCATION:America/New_York
BEGIN:DAYLIGHT
DTSTART:20240310T030000
TZOFFSETFROM:-0500
TZOFFSETTO:-0400
TZNAME:EDT
END:DAYLIGHT
END:VTIMEZONE
END:VCALENDAR