BEGIN:VCALENDAR
VERSION:2.0
PRODID:-//wp-events-plugin.com//7.0.4//EN
TZID:America/New_York
X-WR-TIMEZONE:America/New_York
BEGIN:VEVENT
UID:41@wibsturbridge.org
DTSTART;TZID=America/New_York:20230913T120000
DTEND;TZID=America/New_York:20230913T140000
DTSTAMP:20230826T205146Z
URL:https://wibsturbridge.org/event/september-luncheon-networking/
SUMMARY:September Luncheon & Networking
DESCRIPTION:𝗢𝘂𝗿 𝗦𝗲𝗽𝘁𝗲𝗺𝗯𝗲𝗿 𝗹𝘂𝗻
 𝗰𝗵𝗲𝗼𝗻 𝗶𝘀 𝗱𝗲𝗱𝗶𝗰𝗮𝘁𝗲𝗱 𝘁
 𝗼 𝘀𝗵𝗮𝗿𝗶𝗻𝗴 𝗶𝗻𝗳𝗼𝗿𝗺𝗮𝘁𝗶𝗼
 𝗻 𝗼𝗻 𝗲𝘃𝗲𝗿𝘆𝘁𝗵𝗶𝗻𝗴 𝗪𝗜𝗕 𝗵
 𝗮𝘀 𝘁𝗼 𝗼𝗳𝗳𝗲𝗿. 𝗧𝗵𝗲 𝘀𝘁𝗿𝗲𝗻
 𝗴𝘁𝗵 𝗼𝗳 𝗼𝘂𝗿 𝗺𝗲𝗺𝗯𝗲𝗿𝘀𝗵𝗶
 𝗽 𝗶𝘀 𝗴𝗿𝗼𝘄𝗶𝗻𝗴 𝘀𝘁𝗿𝗼𝗻𝗴𝗲
 𝗿 𝗯𝘆 𝘁𝗵𝗲 𝗱𝗮𝘆\, 𝘄𝗶𝘁𝗵 𝗼𝘃𝗲
 𝗿 𝟴𝟱 𝗮𝗰𝘁𝗶𝘃𝗲 𝗺𝗲𝗺𝗯𝗲𝗿𝘀! 𝗖
 𝗼𝗺𝗲 𝗻𝗲𝘁𝘄𝗼𝗿𝗸\, 𝗲𝗻𝗷𝗼𝘆 𝗹𝘂
 𝗻𝗰𝗵 𝗮𝗻𝗱 𝗹𝗲𝗮𝗿𝗻 𝗺𝗼𝗿𝗲 𝗮𝗯
 𝗼𝘂𝘁 𝗪𝗜𝗕!\n\n\n\nWoman In Business Inc is partnering with
  𝗗𝗶𝗴𝗻𝗶𝘁𝘆 𝗠𝗮𝘁𝘁𝗲𝗿𝘀 a non-profit 
 organization that collects\, purchases and supplies menstrual products\, b
 ras and underwear to women and girls who are homeless or disadvantaged\, i
 n order to help them stay healthy\, regain self-confidence\, and live with
  basic dignity.  We will be accepting the following items at our meeting 
 for our 𝗗𝗼𝗻𝗮𝘁𝗶𝗼𝗻 𝗗𝗿𝗶𝘃𝗲.\n\n  \n\n D
 on’t forget about our Raffle! Our members take turns donating items that
  we raffle off during the event. Raffle Tickets are 3 for $5\, all proceed
 s go toward our WIB Gives Back Programs. \n\n𝗗𝗶𝗿𝗲𝗰𝘁𝗶
 𝗼𝗻𝘀: Take the Overlook service entrance off of route 31 (it is ma
 rked service entrance) and at the top of the hill take a right. You will p
 ass car ports on your right side. When you see a white gazebo on the left 
 you have arrived. There will be lots of signs to help you navigate.\n\n
 𝗪𝗲 𝗮𝗿𝗲 𝗹𝗼𝗼𝗸𝗶𝗻𝗴 𝗳𝗼𝗿𝘄𝗮
 𝗿𝗱 𝘁𝗼 𝘀𝗲𝗲𝗶𝗻𝗴 𝘆𝗼𝘂 𝘁𝗵𝗲𝗿
 𝗲!\n\n
ATTACH;FMTTYPE=image/jpeg:https://wibsturbridge.org/wp-content/uploads/202
 3/07/Sept-2023-2.png
CATEGORIES:Donation Drive,In-Person Networking,Luncheon,Woman In Business
 Gives Back
LOCATION:The Overlook\, Charlton\, MA\, 88 Masonic Home Road\, Charlton\, M
 A\, 01507\, United States
GEO:42.138816;-71.97453
X-APPLE-STRUCTURED-LOCATION;VALUE=URI;X-ADDRESS=88 Masonic Home Road\, Char
 lton\, MA\, 01507\, United States;X-APPLE-RADIUS=100;X-TITLE=The Overlook\
 , Charlton\, MA:geo:42.138816,-71.97453
END:VEVENT
BEGIN:VTIMEZONE
TZID:America/New_York
X-LIC-LOCATION:America/New_York
BEGIN:DAYLIGHT
DTSTART:20230312T030000
TZOFFSETFROM:-0500
TZOFFSETTO:-0400
TZNAME:EDT
END:DAYLIGHT
END:VTIMEZONE
END:VCALENDAR