BEGIN:VCALENDAR
VERSION:2.0
PRODID:-//wp-events-plugin.com//7.0.4//EN
TZID:America/New_York
X-WR-TIMEZONE:America/New_York
BEGIN:VEVENT
UID:81@wibsturbridge.org
DTSTART;TZID=America/New_York:20250910T120000
DTEND;TZID=America/New_York:20250910T140000
DTSTAMP:20250902T170932Z
URL:https://wibsturbridge.org/event/september-luncheon/
SUMMARY:September Luncheon
DESCRIPTION:Join us for our Woman in Business September Luncheon\n\nVenue: 
 Public House\n\n277 Main Street\n\nSturbridge MA\n\nDignity Matters Needs 
 for this year:\n\n 	\nNew underwear especially bikinis and briefs in sizes
  S\, M\, L\, XL \n 	\nPads in quantities of 20-24 and/or 40-48\n 	\nTampo
 ns in quantities of 20-24 and/or 40-48 (plastic applicators are preferred\
 n\nThey accept ANY other menstrual care\, new underwear and bras as well.\
 n&nbsp\;\n\n\n\nWoman In Business Inc is partnering with 𝗗𝗶𝗴𝗻
 𝗶𝘁𝘆 𝗠𝗮𝘁𝘁𝗲𝗿𝘀 a non-profit organization that
  collects\, purchases and supplies menstrual products\, bras and underwear
  to women and girls who are homeless or disadvantaged\, in order to help t
 hem stay healthy\, regain self-confidence\, and live with basic dignity. 
  We will be accepting the following items at our meeting for our 𝗗𝗼
 𝗻𝗮𝘁𝗶𝗼𝗻 𝗗𝗿𝗶𝘃𝗲.\n\n  \n\n Don’t forget ab
 out our Raffle! Our members take turns donating items that we raffle off d
 uring the event. Raffle Tickets are 3 for $5 all proceeds go toward our WI
 B Gives Back Programs. \n\n𝗪𝗲 𝗮𝗿𝗲 𝗹𝗼𝗼𝗸𝗶𝗻
 𝗴 𝗳𝗼𝗿𝘄𝗮𝗿𝗱 𝘁𝗼 𝘀𝗲𝗲𝗶𝗻𝗴 𝘆
 𝗼𝘂 𝘁𝗵𝗲𝗿𝗲!\n\n
ATTACH;FMTTYPE=image/jpeg:https://wibsturbridge.org/wp-content/uploads/202
 5/05/Sept-25-.jpg
CATEGORIES:Donation Drive,In-Person Networking,Luncheon,Woman In Business
 Gives Back
LOCATION:https://www.google.com/maps?client=safari&rls=en&oe=UTF-8&um=1&ie=
 UTF-8&fb=1&gl=us&sa=X&geocode=KSM4xXexo-aJMYdr84nCHT0f&daddr=277+Main+St,+
 Sturbridge,+MA+01566
END:VEVENT
BEGIN:VTIMEZONE
TZID:America/New_York
X-LIC-LOCATION:America/New_York
BEGIN:DAYLIGHT
DTSTART:20250309T030000
TZOFFSETFROM:-0500
TZOFFSETTO:-0400
TZNAME:EDT
END:DAYLIGHT
END:VTIMEZONE
END:VCALENDAR